BEGIN:VCALENDAR
VERSION:2.0
PRODID:-//ChamberMaster//Event Calendar 2.0//EN
METHOD:PUBLISH
X-PUBLISHED-TTL:P3D
REFRESH-INTERVAL:P3D
CALSCALE:GREGORIAN
BEGIN:VEVENT
DTSTART:20260420T060000Z
DTEND:20260912T055500Z
X-MICROSOFT-CDO-ALLDAYEVENT:FALSE
SUMMARY:Nominate a Business for the Business Resiliency Awards
DESCRIPTION:Now is the time to nominate a deserving Bonnyville business. Whether you experienced exceptional customer service\, leadership or community involvement - Tell us about your story today by nominating a business or person.\n\n\n\nWe encourage you to join with us in recognizing the accomplishments and exceptional service of local businesses by submitting a nomination. \n\n\n\nPlease consider businesses in any sector that demonstrate:\n\nExcellence in Customer Service\n\nActive community investment \n\nInnovation\n\nLeadership\n\n\n\nPlease take a few minutes of your time\, to make a businesses year!\n\n\n\n\n\nNomination Form\, Click Here
X-ALT-DESC;FMTTYPE=text/html:Now is the time to nominate a deserving Bonnyville business. Whether you experienced exceptional customer service\, leadership or community involvement - Tell us about your story today by nominating a business or person.<br />\n<br />\nWe encourage you to join with us in recognizing the accomplishments and exceptional service of local businesses by submitting a nomination.&nbsp\;<br />\n<br />\nPlease consider businesses in any sector that demonstrate:<br />\nExcellence in Customer Service<br />\nActive community investment&nbsp\;<br />\nInnovation<br />\nLeadership<br />\n<br />\nPlease take a few minutes of your time\, to make a businesses year!<br />\n<br />\n<br />\n<a href="http://business.bonnyvillechamber.com/form/view/39331"><span style="font-size:36px\;">Nomination Form\, Click Here</span></a><br />\n<br />\n<br />\n<br />\n<br />\n&nbsp\;
LOCATION:
UID:e.2978.285
SEQUENCE:3
DTSTAMP:20260420T210056Z
URL:https://business.bonnyvillechamber.com/events/details/nominate-a-business-for-the-business-resiliency-awards-285
END:VEVENT

END:VCALENDAR
