BEGIN:VCALENDAR
VERSION:2.0
PRODID:-//ChamberMaster//Event Calendar 2.0//EN
METHOD:PUBLISH
X-PUBLISHED-TTL:P3D
REFRESH-INTERVAL:P3D
CALSCALE:GREGORIAN
BEGIN:VEVENT
DTSTART:20261017T000000Z
DTEND:20261017T050000Z
X-MICROSOFT-CDO-ALLDAYEVENT:FALSE
SUMMARY:The Business Resiliency Awards 2026
DESCRIPTION:The Business Resiliency Awards awards is back on Oct 16th\n\n\n\nSave the date!
X-ALT-DESC;FMTTYPE=text/html:The Business Resiliency Awards awards is back on Oct 16th<br />\n<br />\nSave the date!<br />\n<br />\n<br />\n<br />\n<br />\n<br />\n<br />\n<br />\n&nbsp\;
LOCATION:Bonnyville & District Centennial Centre GenMec Hall
UID:e.2978.286
SEQUENCE:3
DTSTAMP:20260420T212548Z
URL:https://business.bonnyvillechamber.com/events/details/the-business-resiliency-awards-2026-286
END:VEVENT

END:VCALENDAR
