BEGIN:VCALENDAR
VERSION:2.0
PRODID:-//ChamberMaster//Event Calendar 2.0//EN
METHOD:PUBLISH
X-PUBLISHED-TTL:P3D
REFRESH-INTERVAL:P3D
CALSCALE:GREGORIAN
BEGIN:VEVENT
DTSTART:20260807T160000Z
DTEND:20260808T000000Z
X-MICROSOFT-CDO-ALLDAYEVENT:FALSE
SUMMARY:The Chamber's 3rd Annual Scholarship Golf Tournament
DESCRIPTION:Join us for our 3rd Annual Scholarship Golf Tournament\n\n\n\nTee off for a cause and support our community's education initiatives while enjoying a day on the green.\n\n\n\nRegistration includes:\n\n  18 Holes of Golf\n\n  Power Cart Rental\n\n  Steak Dinner\n\n  Goodie Bag\n\n\n\nThere is also amazing sponsorship opportunities available for great exposure for your business. \nFor registration and inquiries\, please contact us at 780-826-3252\nLet's make this event a hole-in-one for education and community support! See you on the course!
X-ALT-DESC;FMTTYPE=text/html:<span style="font-size:14px\;"><span style="font-family:arial\;"><span style="color:#000000\;">Join us for our 3rd Annual Scholarship Golf Tournament<br />\n<br />\n<span style="white-space-collapse: preserve\;">Tee off for a cause and support our community&#39\;s education initiatives while enjoying a day on the green.</span><br />\n<br />\nRegistration includes:<br />\n&bull\; 18 Holes of Golf<br />\n&bull\; Power Cart Rental<br />\n&bull\; Steak Dinner<br />\n&bull\; Goodie Bag</span><br />\n<br />\n<span style="color:#000000\;">There is also amazing sponsorship opportunities available for great exposure for your business.&nbsp\;</span></span></span>\n<p a="" and="" apple="" cause="" chance="" color="" difference="" font-size:="" for="" helvetica="" in="" make="" miss="" noto="" now="" our="" p="" reserve="" s="" segoe="" span="" spot="" style="border: 0px solid rgb(227\, 227\, 227)\; box-sizing: border-box\; --tw-border-spacing-x: 0\; --tw-border-spacing-y: 0\; --tw-translate-x: 0\; --tw-translate-y: 0\; --tw-rotate: 0\; --tw-skew-x: 0\; --tw-skew-y: 0\; --tw-scale-x: 1\; --tw-scale-y: 1\; --tw-pan-x: \; --tw-pan-y: \; --tw-pinch-zoom: \; --tw-scroll-snap-strictness: proximity\; --tw-gradient-from-position: \; --tw-gradient-via-position: \; --tw-gradient-to-position: \; --tw-ordinal: \; --tw-slashed-zero: \; --tw-numeric-figure: \; --tw-numeric-spacing: \; --tw-numeric-fraction: \; --tw-ring-inset: \; --tw-ring-offset-width: 0px\; --tw-ring-offset-color: #fff\; --tw-ring-color: rgba(69\,89\,164\,.5)\; --tw-ring-offset-shadow: 0 0 transparent\; --tw-ring-shadow: 0 0 transparent\; --tw-shadow: 0 0 transparent\; --tw-shadow-colored: 0 0 transparent\; --tw-blur: \; --tw-brightness: \; --tw-contrast: \; --tw-grayscale: \; --tw-hue-rotate: \; --tw-invert: \; --tw-saturate: \; --tw-sepia: \; --tw-drop-shadow: \; --tw-backdrop-blur: \; --tw-backdrop-brightness: \; --tw-backdrop-contrast: \; --tw-backdrop-grayscale: \; --tw-backdrop-hue-rotate: \; --tw-backdrop-invert: \; --tw-backdrop-opacity: \; --tw-backdrop-saturate: \; --tw-backdrop-sepia: \; margin: 1.25em 0px\; color: rgb(13\, 13\, 13)\; font-family: Söhne\, ui-sans-serif\, system-ui\, -apple-system\, " success="" swing="" t="" tee="" this="" to="" ui="" up="" white-space-collapse:="" your=""><span style="font-size:14px\;"><span style="font-family:arial\;">For registration and inquiries\, please contact us at 780-826-3252</span></span></p>\n<span style="font-size:14px\;"><span style="font-family:arial\;">Let&#39\;s make this event a hole-in-one for education and community support! See you on the course!</span></span><br />\n<br />\n<br />\n&nbsp\;
LOCATION:At the Bonnyville Golf & Country Club
UID:e.2978.284
SEQUENCE:3
DTSTAMP:20260420T210018Z
URL:https://business.bonnyvillechamber.com/events/details/the-chamber-s-3rd-annual-scholarship-golf-tournament-284
END:VEVENT

END:VCALENDAR
